{"text_format":"1","workbook":"xlsx","n_sheets":4,"sheets":["最初に記入してください！","消防用務出動日誌","消防車安全運転管理日誌","Sheet1"],"not_rendered":{"charts":0,"images":13,"macros":1,"external_links":0,"defined_names":3,"comments":2,"pivot_tables":0},"unopened":[],"bounds":{"document_bytes":16777216,"sheet_cells":100000,"rows_first":2000,"rows_last":500,"rows_between":2000,"halvings":0,"cell_chars":16384,"cell_head_chars":4096},"cells_cut":0,"cells_raw":0,"read":"whole","date_system":"1900"}

{"sheet":"最初に記入してください！","index":0,"n_rows":18,"n_cols":5,"rows_kept":18,"cut":false,"hidden":false,"merged":[[10,4,10,7]]}
["平成○○年度"]
[]
[]
["役職","氏名"]
["部長"]
["班長"]
["団員"]
["〃"]
["〃"]
["〃"]
["〃",null,null,null,"団員の方の名前を記入ください。\n他のシートに反映されます！"]
["〃"]
["〃"]
["〃"]
["〃"]
["〃"]
["〃"]
["〃"]

{"sheet":"消防用務出動日誌","index":1,"n_rows":32,"n_cols":11,"rows_kept":32,"cut":false,"hidden":false,"merged":[[28,1,28,2],[25,7,25,8],[17,1,17,10],[8,9,8,10],[16,1,16,3],[16,4,16,6],[16,7,16,10],[18,1,18,5],[8,1,8,2],[25,2,25,4],[11,3,11,4],[12,3,12,4],[13,3,13,4],[12,9,12,10],[13,9,13,10],[14,9,14,10],[0,0,0,10],[22,5,22,7],[23,5,23,7],[24,5,24,7],[21,8,21,10],[22,8,22,10],[23,8,23,10],[24,8,24,10],[9,0,10,0],[11,0,14,0],[4,0,4,2],[7,7,7,8],[20,5,20,6],[20,7,20,9],[8,3,8,7],[6,1,6,5],[2,5,2,10],[33,0,33,10],[30,0,30,10],[26,0,28,0],[20,2,20,4],[18,6,18,10],[31,0,31,10],[21,2,21,4],[22,2,22,4],[23,2,23,4],[24,2,24,4],[21,5,21,7],[26,1,27,10],[28,5,28,10],[4,3,4,5],[20,0,25,0],[4,8,4,10],[14,3,14,4],[11,6,11,7],[12,6,12,7],[13,6,13,7],[14,6,14,7],[6,6,6,10]]}
["消 防 用 務 出 動 日 誌"]
[]
[null,null,null,null,null,"平成　　年　　月　　日"]
[]
["壬生町消防団",null,null,{"$f":"'最初に記入してください！'!B2","v":0},null,null,null,"部長",{"$f":"'最初に記入してください！'!B5","v":0}]
[]
["用　務　別",null,null,null,null,null,"（）"]
["走行距離","自",null,"㎞～","　至",null,"ｋｍ","走行距離",null,{"$f":"IF(C8=0,0,IF(F8=0,0,F8-C8))","v":0},"ｋｍ"]
["運行区間","消防小屋～",null,null,null,null,null,null,"～","消防小屋"]
["出動日時","平成",null,"年",null,"月",null,"日"]
[null,null,null,"時",null,"分　～",null,null,"時",null,"分"]
["燃料等状況","○自動車","ガソリン",null,null,"オイル"]
[null,"　 発電機　","ガソリン",null,null,"オイル",null,null,"混合油"]
[null,"○小型積載","ガソリン",null,null,"オイル",null,null,"混合油"]
[null,"　 発電機　","ガソリン",null,null,"オイル",null,null,"混合油"]
["ポンプ作動時間",null,"時間",null,"分"]
["投光器の点検",null,null,null,"発電機の点検"]
["発生場所（住所）"]
["水利種別",null,null,null,null,null,"（）"]
["使用ホース",null,"本"]
["出動者名","　部長名",{"$f":"'最初に記入してください！'!B5","v":0},null,null,"　班長名",null,{"$f":"'最初に記入してください！'!B6","v":0}]
[null,"　団員名",{"$f":"'最初に記入してください！'!B7","v":0},null,null,{"$f":"'最初に記入してください！'!B8","v":0},null,null,{"$f":"'最初に記入してください！'!B9","v":0}]
[null,null,{"$f":"'最初に記入してください！'!B10","v":0},null,null,{"$f":"'最初に記入してください！'!B11","v":0},null,null,{"$f":"'最初に記入してください！'!B12","v":0}]
[null,null,{"$f":"'最初に記入してください！'!B13","v":0},null,null,{"$f":"'最初に記入してください！'!B14","v":0},null,null,{"$f":"'最初に記入してください！'!B15","v":0}]
[null,null,{"$f":"'最初に記入してください！'!B16","v":0},null,null,{"$f":"'最初に記入してください！'!B17","v":0},null,null,{"$f":"'最初に記入してください！'!B18","v":0}]
[null,null,null,null,null,null,null,"合計",null,null,"名"]
["特記事項"]
[]
[null,"現有ホース数",null,null,"本"]
[]
["※２枚作成、１枚事務局に提出、今月分を次月の15日まで提出してください。\n（総務課消防防災係　FAX ８２－８２６２）"]
["(メール：soumu@town.mibu.tochigi.jp)"]

{"sheet":"消防車安全運転管理日誌","index":2,"n_rows":40,"n_cols":19,"rows_kept":40,"cut":false,"hidden":false,"merged":[[39,1,39,18],[33,14,34,18],[33,13,34,13],[33,8,34,8],[33,4,34,7],[35,12,35,14],[21,0,34,2],[31,3,32,3],[15,3,16,3],[15,4,16,5],[15,6,16,6],[17,3,18,3],[17,6,18,6],[17,4,18,5],[18,15,18,18],[16,15,17,18],[35,16,35,18],[36,0,37,2],[36,3,37,18],[35,0,35,2],[35,4,35,6],[35,8,35,10],[33,9,34,12],[33,3,34,3],[38,0,38,18],[0,14,0,17],[2,6,3,8],[2,9,3,11],[2,15,3,18],[1,14,1,18],[0,0,1,13],[2,3,3,5],[15,7,18,8],[15,9,18,10],[15,12,18,14],[10,11,10,12],[11,11,11,12],[12,11,12,12],[13,11,13,12],[14,11,14,12],[13,17,13,18],[14,17,14,18],[13,14,13,15],[14,14,14,15],[10,3,14,6],[10,7,14,9],[12,17,12,18],[10,17,10,18],[31,14,32,18],[27,4,28,7],[27,13,28,13],[23,8,24,8],[23,9,24,12],[23,14,24,18],[25,14,26,18],[23,13,24,13],[25,13,26,13],[25,9,26,12],[31,8,32,8],[31,9,32,12],[31,13,32,13],[29,13,30,13],[31,4,32,7],[29,4,30,7],[29,9,30,12],[27,14,28,18],[29,14,30,18],[27,3,28,3],[27,8,28,8],[27,9,28,12],[29,8,30,8],[21,3,22,3],[21,4,22,7],[21,8,22,8],[25,8,26,8],[25,4,26,7],[25,3,26,3],[29,3,30,3],[23,3,24,3],[23,4,24,7],[6,15,6,18],[4,13,4,17],[5,13,5,17],[7,15,8,18],[5,3,5,7],[5,8,5,12],[4,3,4,7],[10,14,10,15],[11,14,11,15],[11,17,11,18],[21,13,22,13],[21,14,22,18],[21,9,22,12],[20,14,20,15],[20,10,20,11],[7,14,8,14],[8,3,8,10],[7,3,7,10],[19,9,20,9],[19,10,19,11],[12,14,12,15],[15,15,15,18],[15,11,18,11],[19,14,19,15],[2,0,3,2],[2,12,3,14],[4,0,8,2],[19,0,20,2],[19,3,20,5],[15,0,18,2],[19,6,19,8],[20,6,20,8],[4,8,4,12],[6,11,6,14],[9,0,9,2],[10,0,14,2],[6,3,6,4],[7,12,8,12],[7,11,8,11],[7,13,8,13]]}
["消防車安全運転管理日誌",null,null,null,null,null,null,null,null,null,null,null,null,null,"安全運転管理者名"]
[null,null,null,null,null,null,null,null,null,null,null,null,null,null,{"$f":"'最初に記入してください！'!$B$5","v":0}]
["車両番号\n車の№",null,null,{"$f":"IF(消防用務出動日誌!D5=0,0,HLOOKUP(J3,Sheet1!A3:O4,2,FALSE))","v":0},null,null,"部名",null,null,{"$f":"消防用務出動日誌!D5","v":0},null,null,"運転者\n氏名"]
[]
["運転者の\n\n仕業点検表",null,null,"　健康状態",null,null,null,null,"　車両状況",null,null,null,null,"　道路状況"]
[null,null,null,"　仕業点検",null,null,null,null,"　携   行  品",null,null,null,null,"　指示事項"]
[null,null,null,"平成",null,{"$f":"消防用務出動日誌!C10","v":0},"年",{"$f":"消防用務出動日誌!E10","v":0},"月",{"$f":"消防用務出動日誌!G10","v":0},"日","点呼時間",null,null,null,"指示伝達事項"]
[null,null,null,"　点呼実施者",null,null,null,null,null,null,null,null,"時",null,"分"]
[]
["出動日時",null,null,"平成",{"$f":"消防用務出動日誌!C10","v":0},"年",{"$f":"消防用務出動日誌!E10","v":0},"月",{"$f":"消防用務出動日誌!G10","v":0},"日",null,{"$f":"消防用務出動日誌!C11","v":0},"時",{"$f":"消防用務出動日誌!E11","v":0},"分～",{"$f":"消防用務出動日誌!H11","v":0},"時",{"$f":"消防用務出動日誌!J11","v":0},"分"]
["使用目的",null,null,{"$f":"消防用務出動日誌!B7","v":0},null,null,null,"同乗者氏名",null,null,null,{"$f":"'最初に記入してください！'!B5","v":0},null,null,{"$f":"'最初に記入してください！'!B10","v":0},null,null,{"$f":"'最初に記入してください！'!B15","v":0}]
[null,null,null,null,null,null,null,null,null,null,null,{"$f":"'最初に記入してください！'!B6","v":0},null,null,{"$f":"'最初に記入してください！'!B11","v":0},null,null,{"$f":"'最初に記入してください！'!B16","v":0}]
[null,null,null,null,null,null,null,null,null,null,null,{"$f":"'最初に記入してください！'!B7","v":0},null,null,{"$f":"'最初に記入してください！'!B12","v":0},null,null,{"$f":"'最初に記入してください！'!B17","v":0}]
[null,null,null,null,null,null,null,null,null,null,null,{"$f":"'最初に記入してください！'!B8","v":0},null,null,{"$f":"'最初に記入してください！'!B13","v":0},null,null,{"$f":"'最初に記入してください！'!B18","v":0}]
[null,null,null,null,null,null,null,null,null,null,null,{"$f":"'最初に記入してください！'!B9","v":0},null,null,{"$f":"'最初に記入してください！'!B14","v":0}]
["走行距離",null,null,"自",{"$f":"消防用務出動日誌!C8","v":0},null,"㎞","走行料",null,{"$f":"IF(E16=0,0,IF(E18=0,0,E18-E16))","v":0},null,"㎞","運行区間",null,null,"消防小屋～"]
[null,null,null,null,null,null,null,null,null,null,null,null,null,null,null,{"$f":"消防用務出動日誌!D9","v":0}]
[null,null,null,"至",{"$f":"消防用務出動日誌!F8","v":0},null,"㎞"]
[null,null,null,null,null,null,null,null,null,null,null,null,null,null,null,"～消防小屋"]
["燃料状況",null,null,null,null,null,"補給購入先",null,null,"種類","レギュラー",null,null,"㍑","オイル",null,"交換",null,"㍑"]
[null,null,null,null,null,null,null,null,null,null,"軽油",null,null,"㍑","補給等",null,"補給",null,"㍑"]
["仕業点検表",null,null,null,"かじ取りハンドル",null,null,null,null,"タイヤリム\nクリップボルト",null,null,null,null,"ファンベルト"]
[]
[null,null,null,null,"ブレーキペダル",null,null,null,null,"かじ取り装置運動部",null,null,null,null,"尾灯・制動灯"]
[]
[null,null,null,null,"手ブレーキ",null,null,null,null,"前照灯・方向灯",null,null,null,null,"番号灯・後退灯"]
[]
[null,null,null,null,"警音・窓ふき\n方向指示器",null,null,null,null,"登録番号灯標",null,null,null,null,"プロペラシャフト\nジョイント"]
[]
[null,null,null,null,"後写鏡・シートベルト",null,null,null,null,"ラジエーター\n及びホース",null,null,null,null,"ブレーキホース\nタンクドラム"]
[]
[null,null,null,null,"計器類\nドアーロック",null,null,null,null,"エンジンオイル",null,null,null,null,"ガソリンパイプ"]
[]
[null,null,null,null,"シャシー担バネ",null,null,null,null,"バッテリー及び配線",null,null,null,null,"物品の積載装置"]
[]
["点検内容",null,null,null,"異常なし",null,null,null,"要調整",null,null,null,"要修理",null,null,null,"要取替"]
["指示事項"]
[]
["※２枚作成、１枚事務局に提出、今月分を次月の15日まで提出してください。\n（総務課消防防災係　FAX ８２－８２６２）"]
[null,"(メール：soumu@town.mibu.tochigi.jp)"]

{"sheet":"Sheet1","index":3,"n_rows":39,"n_cols":15,"rows_kept":39,"cut":false,"hidden":true,"merged":[]}
[]
[]
["第１分団第１部","第１分団第２部","第１分団第３部","第１分団第４部","第１分団第５部","第２分団第１部","第２分団第２部","第２分団第３部","第２分団第４部","第２分団第５部","第３分団第１部","第３分団第２部","第３分団第３部","第３分団第４部","第３分団第５部"]
["宇都宮８３０\nつ　１０１","栃木 ８８\nは２５３３","宇都宮８３０\nち　１0３","栃木 ８８\nね７５１１","宇都宮８３０\nす　１05","宇都宮830\nつ　201","宇都宮８３０\nつ　２０２","栃木 ８８\nね７５１０","宇都宮８３０\nち　２０４","宇都宮８３０\nす　205","宇都宮８３０\nち　３０１","宇都宮830\nそ　302","宇都宮８３０\nち　３０３","宇都宮８３０\nせ　304","栃木 ８８\nは２５３２"]
[]
["１　　火災","２　　水防","３　　訓練","４　　 定期点検","５ 　　その他"]
["１．貯水槽","２．消火栓","３．防火井戸","４．河川","５．中継","６．その他"]
["空","1/4","1/2","3/4","給油済み→"]
[1]
[2]
[3]
[4]
[5]
[6]
[7]
[8]
[9]
[10]
[11]
[12]
[13]
[14]
[15]
[16]
[17]
[18]
[19]
[20]
[21]
[22]
[23]
[24]
[25]
[26]
[27]
[28]
[29]
[30]
[31]